BEGIN:VCALENDAR
VERSION:2.0
PRODID:digiges/events
CALSCALE:GREGORIAN
METHOD:PUBLISH
BEGIN:VEVENT
UID:6596c61bdfab4b18c79024056533dd1314b@digitale-gesellschaft.ch
SUMMARY:Netzpolitischer Stammtisch zur Beschwerde gegen die Kabelaufklärung
DTSTAMP:20260422T202656
DTSTART:20220120T190000
DTEND:20220120T220000
LOCATION:Hybrid (Online\, Bitwäscherei)
DESCRIPTION:Jeden dritten Donnerstag im Monat treffen wir uns zu einer gemü
 tlichen Runde. Am Donnerstag\, 20. Januar 2022 sprechen wir über die Besch
 werde gegen die Kabelaufklärung. Zu Gast ist Viktor Györffy\, Anwalt der D
 igitalen Gesellschaft.\n\nhttps://www.digitale-gesellschaft.ch/event/netzp
 olitischer-stammtisch-zur-beschwerde-gegen-die-kabelaufklaerung/
END:VEVENT
END:VCALENDAR
