BEGIN:VCALENDAR
VERSION:2.0
PRODID:digiges/events
CALSCALE:GREGORIAN
METHOD:PUBLISH
BEGIN:VEVENT
UID:508ebc1d105c6d28cefd6daad2ce594ed9c@digitale-gesellschaft.ch
SUMMARY:Energy &#038\; Climate Hack von opendata.ch
DTSTAMP:20260421T203805
DTSTART:20210831T090000
DTEND:20210901T163000
LOCATION:Online
DESCRIPTION:Opendata.ch führt am 31. August und 1. September einen Hackatho
 n zum Thema Dekarbonisierung von Städten in Bern durch.\n\nhttps://www.dig
 itale-gesellschaft.ch/event/energy-climate-hack-von-opendata-ch/
END:VEVENT
END:VCALENDAR
