BEGIN:VCALENDAR
VERSION:2.0
PRODID:digiges/events
CALSCALE:GREGORIAN
METHOD:PUBLISH
BEGIN:VEVENT
UID:974452132fc09003ef39e272629b2cb5c0b@digitale-gesellschaft.ch
SUMMARY:Konferenzielle Diskussion E-ID
DTSTAMP:20260423T031004
DTSTART:20211014T093000
DTEND:20211014T170000
LOCATION:Hybrid
DESCRIPTION:Am 14. Oktober 2021 findet eine konferenzielle Diskussion des D
 iskussionspapiers zum «Zielbild E-ID» statt. Die Konferenz ist öffentlich 
 und kann via virtueller Event-Plattform verfolgt werden. Sie soll dem Bund
 esrat als Basis für seinen Richtungsentscheid dienen\, den er bis Ende 202
 1 treffen will.\n\nhttps://www.digitale-gesellschaft.ch/event/konferenziel
 le-diskussion-e-id/
END:VEVENT
END:VCALENDAR
