BEGIN:VCALENDAR
VERSION:2.0
PRODID:digiges/events
CALSCALE:GREGORIAN
METHOD:PUBLISH
BEGIN:VEVENT
UID:7111b9fa0f21377fea1fe693083b241e329@digitale-gesellschaft.ch
SUMMARY:Prototype Fund Demo Day
DTSTAMP:20260421T213635
DTSTART:20220224T170000
DTEND:20220224T210000
LOCATION:Online
DESCRIPTION:Die diesjährigen Teams des Prototype Fund werden ihre Projekte 
 vorstellen\, an denen sie in den letzten sechs Monaten gearbeitet haben.\n
 \nhttps://www.digitale-gesellschaft.ch/event/prototype-fund-demo-day/
END:VEVENT
END:VCALENDAR
