BEGIN:VCALENDAR
VERSION:2.0
PRODID:digiges/events
CALSCALE:GREGORIAN
METHOD:PUBLISH
BEGIN:VEVENT
UID:337b3783d50ec4762488089f16962b7dab@digitale-gesellschaft.ch
SUMMARY:Radical Measures: An Evening about Hacks and Hackers
DTSTAMP:20260420T103524
DTSTART:20220428T200000
DTEND:20220428T220000
LOCATION:Theater am Neumarkt - Saal Neumarkt
DESCRIPTION:Spätestens nach ihrer Kriegserklärung an die russische Regierun
 g stehen sie wieder im Licht der Öffentlichkeit\, wenn auch clandestin: Ha
 cker wie die Gruppe «Anonymous». Mit hochkarätigen Gästen holen wir die un
 bekannte Historie des Hackings ans Licht und werfen einen Blick auf die «r
 adical measures» des Hacktivism.\n\nhttps://www.digitale-gesellschaft.ch/e
 vent/radical-measures-an-evening-about-hacks-and-hackers/
END:VEVENT
END:VCALENDAR
