BEGIN:VCALENDAR
VERSION:2.0
PRODID:digiges/events
CALSCALE:GREGORIAN
METHOD:PUBLISH
BEGIN:VEVENT
UID:0bf43c03563f38fde1293081e639e141f@digitale-gesellschaft.ch
SUMMARY:Vortrag: Meinungsbildung durch Social Bots (Dr. David Rechsteiner)
DTSTAMP:20260421T005824
DTSTART:20221005T181500
DTEND:20221005T190000
LOCATION:Universität St. Gallen\, Lehr-Pavillon A 23\, Hörsaal 23-003
DESCRIPTION:Zwischen Oktober 2022 und März 2023 führt die ICJ-CH in Zusamme
 narbeit mit verschiedenen Universitäten eine Veranstaltungsreihe zum Thema
  Soziale Medien und Menschenrechte durch.\n\nhttps://www.digitale-gesellsc
 haft.ch/event/vortrag-meinungsbildung-durch-social-bots-dr-david-rechstein
 er/
END:VEVENT
END:VCALENDAR
