BEGIN:VCALENDAR
VERSION:2.0
PRODID:digiges/events
CALSCALE:GREGORIAN
METHOD:PUBLISH
BEGIN:VEVENT
UID:924f1b5d39873de2b3ff862f724579a9775@digitale-gesellschaft.ch
SUMMARY:GLAMHack22 in Mendrisio
DTSTAMP:20260421T204229
DTSTART:20221103T090000
DTEND:20221105T170000
LOCATION:SUPSI Mendrisio
DESCRIPTION:This year&#8217\;s 8th Swiss Open Cultural Hackathon is bringin
 g together hackers\, GLAMmers\, coders\, curious\, artists\, architects\, 
 design aficionados\, biologists\, scientists and all people interested\, c
 aring and passionate about all things GLAM (Galleries\, Libraries\, Archiv
 es\, Museums). This year&#8217\;s focus is sound/audio\; schools<a class="
 read-more" href="https://www.digitale-gesellschaft.ch/event/glamhack22-in-
 mendrisio/">&hellip\; mehr</a>\n\nhttps://www.digitale-gesellschaft.ch/eve
 nt/glamhack22-in-mendrisio/
END:VEVENT
END:VCALENDAR
