BEGIN:VCALENDAR
VERSION:2.0
PRODID:digiges/events
CALSCALE:GREGORIAN
METHOD:PUBLISH
BEGIN:VEVENT
UID:5248b96852e4abf35189b52e3092e67f5dd@digitale-gesellschaft.ch
SUMMARY:Vorstellung des Schellackplatten-Archivs
DTSTAMP:20260423T175911
DTSTART:20221125T180000
DTEND:20221125T220000
LOCATION:Joweid Zentrum 4
DESCRIPTION:Am 25. November 2022\, von 18 bis 22 Uhr\, findet der Abend der
  offenen Tür der Schweizer Stiftung «Public Domain» statt. Vorgestellt wir
 d dabei das Schellackplatten-Archiv.\n\nhttps://www.digitale-gesellschaft.
 ch/event/vorstellung-des-schellackplatten-archivs/
END:VEVENT
END:VCALENDAR
