BEGIN:VCALENDAR
VERSION:2.0
PRODID:digiges/events
CALSCALE:GREGORIAN
METHOD:PUBLISH
BEGIN:VEVENT
UID:383a369438b06eb2720104c8356a8f36b67@digitale-gesellschaft.ch
SUMMARY:Frühlingstreffen der Digitalen Gesellschaft
DTSTAMP:20260425T034506
DTSTART:20230506T130000
DTEND:20230506T190000
LOCATION:Bitwäscherei
DESCRIPTION:An den halbjährlichen Frühlings- und Herbsttreffen tauschen wir
  uns zu unseren Themen aus\, vernetzen uns und planen das nächste halbe Ja
 hr. Das 25. Netzpolitik-Synergie-Treffen wird am Samstag\, 6. Mai 2023 in 
 der Bitwäscherei Zürich stattfinden\n\nhttps://www.digitale-gesellschaft.c
 h/event/fruehlingstreffen-der-digitalen-gesellschaft/
END:VEVENT
END:VCALENDAR
