BEGIN:VCALENDAR
VERSION:2.0
PRODID:digiges/events
CALSCALE:GREGORIAN
METHOD:PUBLISH
BEGIN:VEVENT
UID:460fcdc71c5ec3ed0bb985a812877557813@digitale-gesellschaft.ch
SUMMARY:Opendata.ch/2023 Forum
DTSTAMP:20260421T074546
DTSTART:20230616T090000
DTEND:20230616T163000
LOCATION:Karl der Grosse
DESCRIPTION:Opendata.ch/2023 is Switzerland’s leading conference on open da
 ta and open knowledge. On June 16th 2023\, we’ll meet for another day of i
 nspiration\, innovation\, and networking.\n\nhttps://www.digitale-gesellsc
 haft.ch/event/opendata-ch-2023-forum/
END:VEVENT
END:VCALENDAR
