BEGIN:VCALENDAR
VERSION:2.0
PRODID:digiges/events
CALSCALE:GREGORIAN
METHOD:PUBLISH
BEGIN:VEVENT
UID:464fe5abaf1e0fa6561e2b2bdbd579dc85@digitale-gesellschaft.ch
SUMMARY:Vintage Computer Festival
DTSTAMP:20260420T120754
DTSTART:20231111T110000
DTEND:20231112T180000
LOCATION:Kraftwerk
DESCRIPTION:Das Vintage Computer Festival Zürich bietet Besuchern die Mögli
 chkeit\, eine Zeitreise in die Anfänge der Computertechnologie zu unterneh
 men. Das Festival umfasst Ausstellungen\, Vorträge und interaktive Aktivit
 äten\, bei denen Besucher alte Computermodelle ausprobieren können.\n\nhtt
 ps://www.digitale-gesellschaft.ch/event/vintage-computer-festival/
END:VEVENT
END:VCALENDAR
