BEGIN:VCALENDAR
VERSION:2.0
PRODID:digiges/events
CALSCALE:GREGORIAN
METHOD:PUBLISH
BEGIN:VEVENT
UID:799dc40977c0206f7a889a971b51c6d6a2c@digitale-gesellschaft.ch
SUMMARY:Kollektivgut Internet: Wie lässt sich das Web entkommerzialisieren?
DTSTAMP:20260422T115602
DTSTART:20231128T190000
DTEND:20231128T203000
LOCATION:Paulus Akademie
DESCRIPTION:Mehr Freiheit und mehr Demokratie waren die grossen Versprechen
  des Internets. Google\, Meta &#038\; Co. haben sich derweil zu gigantisch
 en Mächten ausgedehnt\, die nach immer mehr Daten und Profit gieren.\n\nht
 tps://www.digitale-gesellschaft.ch/event/kollektivgut-internet-wie-laesst-
 sich-das-web-entkommerzialisieren/
END:VEVENT
END:VCALENDAR
