BEGIN:VCALENDAR
VERSION:2.0
PRODID:digiges/events
CALSCALE:GREGORIAN
METHOD:PUBLISH
BEGIN:VEVENT
UID:7596a44f2385d3c5e79cc43e0dfa67b376e@digitale-gesellschaft.ch
SUMMARY:Frühjahrestreffen der Digitalen Gesellschaft
DTSTAMP:20260420T034014
DTSTART:20240504T101500
DTEND:20240504T190000
LOCATION:Bitwäscherei
DESCRIPTION:An den halbjährlichen Frühlings- und Herbsttreffen tauschen wir
  uns zu unseren Themen aus\, vernetzen uns und planen das nächste halbe Ja
 hr. Das Frühjahrestreffen wird am Samstag\, 4. Mai 2024 in der Bitwäschere
 i Zürich sowie Powerhause Lausanne (und remote) stattfinden. Wie bereits a
 m letzten Herbsttreffen angekündigt diesmal mit einigen Neuerungen.\n\nhtt
 ps://www.digitale-gesellschaft.ch/event/fruehjahrestreffen-der-digitalen-g
 esellschaft/
END:VEVENT
END:VCALENDAR
