BEGIN:VCALENDAR
VERSION:2.0
PRODID:digiges/events
CALSCALE:GREGORIAN
METHOD:PUBLISH
BEGIN:VEVENT
UID:2316f5b2fd46f17ac7f73ad61b7f4977f7e@digitale-gesellschaft.ch
SUMMARY:her – best ever love songs Vol. 2
DTSTAMP:20260422T120916
DTSTART:20240208T200000
DTEND:20240221T220000
LOCATION:Theater am Neumarkt
DESCRIPTION:Träumen Algorithmen von elektrischen Gefühlen? Eine künstliche 
 Intelligenz hört alle Liebeslieder\, die auf Spotify verfügbar sind. Denn 
 Liebeslieder sind ein Archiv menschlicher Vorstellungen von romantischer L
 iebe.\n\nhttps://www.digitale-gesellschaft.ch/event/her-best-ever-love-son
 gs-vol-2/
END:VEVENT
END:VCALENDAR
