BEGIN:VCALENDAR
VERSION:2.0
PRODID:digiges/events
CALSCALE:GREGORIAN
METHOD:PUBLISH
BEGIN:VEVENT
UID:695381d04be026a9eae0aaf75f78711ea85@digitale-gesellschaft.ch
SUMMARY:Jugend hackt
DTSTAMP:20260421T152035
DTSTART:20240614T160000
DTEND:20240616T160000
LOCATION:Bitwäscherei Zürich
DESCRIPTION:Interessierst du dich für gesellschaftliche Themen und für Tech
 nik? Die Digitale Gesellschaft organisiert in Kooperation mit den gemeinnü
 tzigen Vereinen Open Knowledge Foundation Deutschland und mediale pfade.or
 g vom 14. bis 16. Juni 2024 die Veranstaltung «Jugend hackt» in der Bitwäs
 cherei in Zürich.\n\nhttps://www.digitale-gesellschaft.ch/event/jugend-hac
 kt-zuerich-2024/
END:VEVENT
END:VCALENDAR
