BEGIN:VCALENDAR
VERSION:2.0
PRODID:digiges/events
CALSCALE:GREGORIAN
METHOD:PUBLISH
BEGIN:VEVENT
UID:470206787b0d08349012d2bd14296a1bef4@digitale-gesellschaft.ch
SUMMARY:Privatsphäre im Alltag – Datenschutz
DTSTAMP:20260422T150101
DTSTART:20240620T190000
DTEND:20240620T210000
LOCATION:forwardspace
DESCRIPTION:Am Donnerstag\, 20. Juni organisiert die Arbeitsgruppe Maschine
 n der Grünen Luzern eine öffentliche Veranstaltung: Nach einem Inputrefera
 t gibt es an verschiedenen Posten praktische Tips für mehr Privatsphäre im
  Alltag. \n\nhttps://www.digitale-gesellschaft.ch/event/privatsphaere-im-a
 lltag-datenschutz/
END:VEVENT
END:VCALENDAR
