BEGIN:VCALENDAR
VERSION:2.0
PRODID:digiges/events
CALSCALE:GREGORIAN
METHOD:PUBLISH
BEGIN:VEVENT
UID:643627dc8f842cee895562e797c7dcb69af@digitale-gesellschaft.ch
SUMMARY:Arcade am Rank &#8211\; Eine interaktive Zeitreise durch die Geschi
 chte der Game-Konsolen
DTSTAMP:20260422T150657
DTSTART:20240703T000000
DTEND:20240707T000000
LOCATION:Kultur Lokal Rank
DESCRIPTION:Atari Pong\, Starfox\, Goldeneye\, GTA V. Vom 3. bis zum 7. Jul
 i verwandelt sich das Kultur Lokal Rank in Zusammenarbeit mit Epic Moment 
 in ein Erlebnis-Museum der besonderen Art. Die Veranstaltung &#171\;Arcade
  am Rank&#187\; bietet Besuchern die einzigartige Möglichkeit\, sämtliche 
 Spielkonsolen der Menschheitsgeschichte zu erleben und zu spielen.\n\nhttp
 s://www.digitale-gesellschaft.ch/event/arcade-am-rank-eine-interaktive-zei
 treise-durch-die-geschichte-der-game-konsolen/
END:VEVENT
END:VCALENDAR
