BEGIN:VCALENDAR
VERSION:2.0
PRODID:digiges/events
CALSCALE:GREGORIAN
METHOD:PUBLISH
BEGIN:VEVENT
UID:89056e439bf8e4db68e6e2faf95e2090a77@digitale-gesellschaft.ch
SUMMARY:Open Parl Data: Public Meeting #3
DTSTAMP:20260420T103545
DTSTART:20250128T110000
DTEND:20250128T120000
LOCATION:Online
DESCRIPTION:Together\, we are building an open API and standard for harmoni
 zed Swiss parliamentary data to promote transparency\, innovation and part
 icipation in Swiss politics.\n\nhttps://www.digitale-gesellschaft.ch/event
 /open-parl-data-public-meeting-3/
END:VEVENT
END:VCALENDAR
