BEGIN:VCALENDAR
VERSION:2.0
PRODID:digiges/events
CALSCALE:GREGORIAN
METHOD:PUBLISH
BEGIN:VEVENT
UID:750c22caebed6a64d4e7d126f98bf489f6e@digitale-gesellschaft.ch
SUMMARY:Netzpolitischer Abend zu «Digitale Integrität»
DTSTAMP:20260421T213742
DTSTART:20250417T190000
DTEND:20250417T220000
LOCATION:Lichtspiel / Kinemathek
DESCRIPTION:Der Netzpolitische Abend ist eine Veranstaltungsreihe der Digit
 alen Gesellschaft. Gemeinsam mit unseren Gästen aus Wissenschaft\, Wirtsch
 aft oder Politik diskutieren wir über gesellschaftlich relevante Themen ru
 nd um die Digitalisierung. Am Donnerstag\, 17. April 2025 treffen wir uns 
 zum ersten Mal im Lichtspiel in Bern und sprechen über «Digitale Integritä
 t».\n\nhttps://www.digitale-gesellschaft.ch/event/netzpolitischer-abend-zu
 -digitale-integritaet/
END:VEVENT
END:VCALENDAR
