BEGIN:VCALENDAR
VERSION:2.0
PRODID:digiges/events
CALSCALE:GREGORIAN
METHOD:PUBLISH
BEGIN:VEVENT
UID:91367fe61067bb9265196cd379fc891b2f2@digitale-gesellschaft.ch
SUMMARY:Konferenz &#171\;Global Digital Collaboration on Wallets &amp\; Cre
 dentials&#187\;
DTSTAMP:20260422T102958
DTSTART:20250701T000000
DTEND:20250702T000000
LOCATION:Geneva International Conference Center
DESCRIPTION:Die Digitale Gesellschaft ist eingeladen und Partnerin der inte
 rnationalen Konferenz «Global Digital Collaboration on Wallets &#038\; Cre
 dentials». Diese hat zum Ziel\, die Zukunft digitaler Bescheiningungen (cr
 edentials)\, Identität und Geldbörsen mitzugestalten.\n\nhttps://www.digit
 ale-gesellschaft.ch/event/konferenz-global-digital-collaboration-on-wallet
 s-credentials/
END:VEVENT
END:VCALENDAR
