BEGIN:VCALENDAR
VERSION:2.0
PRODID:digiges/events
CALSCALE:GREGORIAN
METHOD:PUBLISH
BEGIN:VEVENT
UID:836ff7014a9269fd742d25850f2606df50c@digitale-gesellschaft.ch
SUMMARY:Filmreihe CTRL &#8211\; Spielfilm NEPTUNE FROST
DTSTAMP:20260424T195828
DTSTART:20251212T190000
DTEND:20251212T223000
LOCATION:Lichtspiel / Kinemathek Bern
DESCRIPTION:Am Freitag\, 12.12.2025 startet um 20h die dritte Ausgabe der F
 ilmreihe CTRL\, welche von der Digitalen Gesellschaft gemeinsam mit dem Li
 chtspiel Bern und dem CCC CH organisiert wird.\n\nhttps://www.digitale-ges
 ellschaft.ch/event/filmreihe-ctrl-spielfilm-neptune-frost/
END:VEVENT
END:VCALENDAR
