BEGIN:VCALENDAR
VERSION:2.0
PRODID:digiges/events
CALSCALE:GREGORIAN
METHOD:PUBLISH
BEGIN:VEVENT
UID:718db27acccb7f0d15a0a4d2519509a2e7a@digitale-gesellschaft.ch
SUMMARY:Towards Digital Sufficiency
DTSTAMP:20260421T162853
DTSTART:20260122T174500
DTEND:20260122T200000
LOCATION:Stellwerk Bern
DESCRIPTION:Am Donnerstag\, 22. Januar 2026 veranstalten das One Planet Lab
  gemeinsam mit Prototype Fund Switzerland das Event «Towards Digital Suffi
 ciency» (auf Englisch).    Künstliche Intelligenz&nbsp\;(KI)&nbsp\;prägt d
 erzeit viele Diskussionen\, doch welche Auswirkungen&nbsp\;hat&nbsp\;KI&nb
 sp\;tatsächlich auf&nbsp\;die Umwelt? Ist es möglich\,&nbsp\;es&nbsp\;vera
 ntwortungsvoll und nachhaltig zu gestalten? Und kann KI vielleicht sogar T
 eil<a class="read-more" href="https://www.digitale-gesellschaft.ch/event/t
 owards-digital-sufficiency/">&hellip\; mehr</a>\n\nhttps://www.digitale-ge
 sellschaft.ch/event/towards-digital-sufficiency/
END:VEVENT
END:VCALENDAR
